BEGIN:VCALENDAR
VERSION:2.0
PRODID:-//Commons Napoli - ECPv6.15.11//NONSGML v1.0//EN
CALSCALE:GREGORIAN
METHOD:PUBLISH
X-ORIGINAL-URL:https://commonsnapoli.org
X-WR-CALDESC:Eventi per Commons Napoli
REFRESH-INTERVAL;VALUE=DURATION:PT1H
X-Robots-Tag:noindex
X-PUBLISHED-TTL:PT1H
BEGIN:VTIMEZONE
TZID:Europe/Rome
BEGIN:DAYLIGHT
TZOFFSETFROM:+0100
TZOFFSETTO:+0200
TZNAME:CEST
DTSTART:20200329T010000
END:DAYLIGHT
BEGIN:STANDARD
TZOFFSETFROM:+0200
TZOFFSETTO:+0100
TZNAME:CET
DTSTART:20201025T010000
END:STANDARD
BEGIN:DAYLIGHT
TZOFFSETFROM:+0100
TZOFFSETTO:+0200
TZNAME:CEST
DTSTART:20210328T010000
END:DAYLIGHT
BEGIN:STANDARD
TZOFFSETFROM:+0200
TZOFFSETTO:+0100
TZNAME:CET
DTSTART:20211031T010000
END:STANDARD
BEGIN:DAYLIGHT
TZOFFSETFROM:+0100
TZOFFSETTO:+0200
TZNAME:CEST
DTSTART:20220327T010000
END:DAYLIGHT
BEGIN:STANDARD
TZOFFSETFROM:+0200
TZOFFSETTO:+0100
TZNAME:CET
DTSTART:20221030T010000
END:STANDARD
END:VTIMEZONE
BEGIN:VEVENT
DTSTART;TZID=Europe/Rome:20210716T170000
DTEND;TZID=Europe/Rome:20210717T235900
DTSTAMP:20260422T215354
CREATED:20220516T115228Z
LAST-MODIFIED:20220516T115228Z
UID:3300-1626454800-1626566340@commonsnapoli.org
SUMMARY:Uè Fest presenta INTRASATTA
DESCRIPTION:UE’ UNDERGROUND ECCETERA\nfestival mediterraneo del fumetto e delle autoproduzioni a stampa\npresenta:\n⁉️ ?????????? \nUn’intrusione improvvisa\, mentre le cose succedono\, cambiano\, per tornare a vederci e a scambiare esperienze e progetti. \n? Dal 16 al 17 luglio 2021\n? Scugnizzo Liberato / Laboratorio di Mutuo Soccorso\, Napoli \n⁉️ PROGRAMMA INTRASATTA \nOPENING AREA MERCATO: TUTTI I GIORNI h17:00\n* dalle h17.00 sottoscrizione consigliata €3.00\n* dalle h21.00 sottoscrizione consigliata €5.00 \n?️ LE MOSTRE\n>> ANNE VAN DER LINDEN\nPittrice e disegnatrice francese vive a Saint-Denis\, sobborgo di Parigi.\nLa sua arte è un connubio tra espressionismo tedesco\, incisione medievale e i fumetti di Robert Crumb. Le sue opere mettono a fuoco la parte animale del genere umano e come questa si scontri con una società normalizzata e pacata.\nhttp://www.annevanderlinden.net \n>> YELE&TRÈS\nYele\, femminista\, antifascista e anticlericale. Tres\, graffiti artist. Con un occhio alla propaganda del secolo scorso e uno alle lotte dei giorni nostri\, insieme realizzano poster di propaganda radicale e senza filtri.\nVERITÀ PER MARIO PACIOLLA\nPoster 6×3 realizzato per il Carnevale delle Arti di Barranquilla\, in Colombia\, tenutosi agli inizi di marzo. Mario Paciolla era un ragazzo di Napoli\, un collaboratore delle Nazioni Unite trovato morto il 15 luglio 2020 nella sua casa a San Vicente del Caguán\, a oltre 650 chilometri da Bogotà. La morte è stata con sospetta rapidità bollata come suicidio. Più probabile l’ipotesi che Mario sia stato sacrificato in un gioco sporco interno alla politica colombiana e coperto dal silenzio ai livelli più alti. Grazie all’inchiesta della giornalista colombiana Claudia Dunque\, sappiamo infatti che Mario Paciolla scrisse dei rapporti riservati sull’assassinio di almeno sette adolescenti in un accampamento di quel che resta della guerriglia colombiana\, da parte dell’esercito regolare\, in un contesto nel quale esercito e paramilitari stanno sabotando il processo di pace. Tali rapporti sono evidentemente finiti nelle mani sbagliate e sono stati usati per provocare la caduta del Ministro della Difesa Botero. Per approfondire la questione\, potete cercare le inchieste della giornalista colombiana Claudia Julieta Duque.\nhttps://it.justiceformario.com/\nhttps://www.instagram.com/yele.1312/\nhttps://www.instagram.com/tony_tres/ \n>> PERCY BERTOLINI\nTra le mura dello Scugnizzo\nIl fumetto “pane e le statue cittadine” è una striscia di circa 24 vignette/po- ster quadrate. Ogni vignetta viene attaccata su muro in maniera sequenziale trasformandolo in un fumetto istagram materiale\, da leggere. Unʼ opera multi- mediale crossgender tra poster-art/fumetto/fumetto-ig.\nhttps://www.instagram.com/zia.pane/ \n>> CAROLINE SURY\nLavora il foglio bianco con la penna e quello nero con le forbici e produce fumetti essenzialmente autobiografici. Al centro di questa mostra ci sono piccoli corpi e grandi teste – piccole figure femminili\, spesso doppie\, ti osservano dalle loro maschere\, metà umane e metà animali ad esse si alternano imponenti totem di carta immortalati sul muro\nhttps://www.bruzz.be/fr/culture/art-books/dominique-goblet-caroline-sury-sorcieres-de-la-bd-notre-futur-sera-feminin-2021 \n>> TROPIDELIA\nhttps://tropidelia.wixsite.com/tropidelia\n>> WHERE TO MARIE? Storie di femminismo in Libano\nLe donne lottano da tempo contro i poteri coloniali per l’uguaglianza e la giustizia sociale\, nonché contro le leggi settarie sullo status personale e l’intera struttura sociale patriarcale che le impone. Mentre le donne hanno preso parte attivamente alle lotte nazionaliste e anticapitaliste\, dall’indipendenza nazionale alla resistenza all’occupazione israeliana\, e hanno svolto ruoli fondamentali nelle lotte di classe come parte dei movimenti dei lavoratori e degli studenti\, i loro compagni maschi hanno avuto la tendenza ad appropriarsi delle loro lotte\, alienandosi e spingendo contro i programmi femministi con il pretesto che le “questioni femminili” non sono priorità rivoluzionarie.\nQuesto fumetto punta a mostrare perché e da dove i movimenti femministi in Libano siano nati e la loro crescita nel corso del secolo. Sicuramente non bastano le pagine di questa antologia per raccontare le vicende complete di un pezzo di storia femminista in Libano. Questo è il motivo per la scelta di raccontare la storia di oltre un secolo di attivismo femminista attraverso quattro narrazioni personali fittizie\, tutte basate su un’ampia ricerca condotta tra il 2010 e il 2015.\nPubblicazione in italiano a cura di Fortepressa e D Editore \nTesti: Bernadette Daou e Yazan Al-Saadi\nDisegni: Razan Wehbi\, Rawand Issa\, Tracy Chahwan\, Joan Baz\, Sirène Moukheiber\nProgetto originale sostenuto dalla Fondazione Rosa Luxemburg – Beirut\, grafica del volume di Rawand Issa\, sito curato da Layal Khatib e traduzione inglese dall’originale arabo di Lina Mounzer.\nhttps://wheretomarie.net/ar\nhttps://wheretomarie.net/en \n? PROGRAMMA DELLE GIORNATE \n? VENERDÌ 16\nLe presentazioni verranno accompagnate/mischiate da esibizioni di musica dal vivo di Sid The Dig Digger e Numero71 Monobanda. \n?️ Presentazioni dalle 19:00 alle 21:00\n* Introduzione a Cura di Ue’ Fest e presentazione della Rete F.I.K.A.\nhttp://www.retefika.net\n* Fear – Marta Punxo \nPUNXO \n\n* Anne Van Der Linden – Presentazione dei lavori esposti\nhttp://www.annevanderlinden.net/fr/biographie/\nhttp://heavyshop.free.fr/ \n? UÉ SONA\n>> The Delay in the Universal Loop\nDylan Iuliano\, musicista di Benevento.\nINNER CAPITALISM è il suo ultimo lavoro\, che esplora l’estetica del pop moderno e la durezza della sperimentazione musicale. \n>>Unruly Girls\nDrum machines martellanti\, sintetizzatori acidi\, basso distorto\, chitarre fuzz dissonanti e noise lisergico sono i composti della formula Unruly Girls\, il duo di Benevento formato da Luigi Limongelli e Luca Zotti (Humbert Alison). Nel 2020 UG pubblicano il secondo lavoro “Epidemic”  per Dirty Beach Records e ripartono in tour con la performance one man band di Humbert. \n>> Ga-Rage\nGarage-heavy\, Lo-Fi Fuzzy Duo of Doom from NA-IT Formed in June ’15 in order to fight a tragically low self-esteem. Blowing up speakers and megaphones ever since. \n? SABATO 17\nLe presentazioni verranno accompagnate/mischiate da esibizioni di musica dal vivo di Sid The Dig Digger e Bam!Box \n?️  Presentazioni dalle 19:00 alle 21:00\n* Bad Moon Rising Production\nhttps://www.instagram.com/bmrproduction/\n* La Voce degli Invisibili – Rete di Solidarietà Popolare\nhttps://lavocedegliinvisibili.bigcartel.com/\n* Paolo Fox\, l’oroscopo durante la quarantena con Percy Bertolini“ edizioni AFA Autoproduzioni Fichissime Anderground. \nPaolo Fox\, Ambrogio e tutto il resto. È l’oroscopo quarantena di Percy \n\nhttps://percybertolini.bigcartel.com/product/paolo-fox-l-oroscopo-durante-la-quarantena\n* Drôles de Dames con Caroline Sury éditions La Gangue\nhttps://chloepoizat.com/DROLES-DE-DAMES\nDrôle de dames | Anne van der Linden (la Gangue)\nhttps://www.etsy.com/listing/1033430669/drole-de-dames-marie-pierre-brunel \n?UE’ SONA\n>> Addolorata\nAddolorata è un gruppo lol rap\, nato a Napoli nel centro storico. Addolorata è composto da tre membri: Apostoli\, Bellettini e Demarino. Apostoli è l’operaio\, il manifestante con la molotov. Bellettini è la cassa\, il charleston\, il sogno. Demarino è uno smartphone con il vetro rotto\, il mal di schiena. \n✍️ Saranno a UE’:\nFumettibrutti&Joe1\, Profondissima\, Radon\, Subseri la Stamperia Sotterranea\, Alessandra Oricchio\, Ottoeffe\, Borda!Fest – Produzioni Sotterranee / Federico Fabbri\, Interiors\, La Tana – Autoproduzioni\, Yele&Tres\, Macondo\, Mad.rioska\, Bad Moon Rising Production\, Mia Werther//Gatto Productions\, Nightputrid + Peer Pressure Press\, El Rughi&Tropidelia\, Mattia Secci\, Lume&Effe\, Martina Di Gennaro\, Salvatore Liberti Illustration\, Dalila Amendola\, VI. VA.\, Apnea & Suegners\, ORAutoproduzioni – Valerio Stacchini\, Weirdoughcollective\, Cinzia C\, Santacremina\, Etero de ke\, ShaguraLab\, BendaNera\, Anemone\, BruciacomeNeve\, Noemi Battaglia\, Simona Casteluccio\, Camilla.Osa\, Baba Fregapane\, Cagne Sciolte e Etero De Che?!\, Rancora Hatemade\, Erianthe\, Santo Diego\, Giuliana Roviello aka Monstera Ink\, Rose Romano\, Psicosauro / Ga-Rage!\, Vomit Pink \, Nancy Downs\, Resli Tale\, Pirata Produzioni\, Sanacore\, Oilloc\, Euno maya\, Innaigentile\, Valentina Gonzo\, Percy il buio\, Runa\, FiLumena\, MigliorEditore\, T.A.L.E.\, Quattro Zero Quattro\, Tamu Edizioni\, Aspalax Comix\, Marta Punxo\, Armeria/l’Asilo\, Sputnik Press\, Traumart\, Momo\, Anne Van Der Linden\, Caroline Sury\, Percy Bartolini\, Aspalax Comix\, Bambi Kramer\, Liuto\, Valerio Bindi\, Laszlo\, Fortepressa/La Bagarre. \nCerca nel festival la fanzine-manifesto disegnata da Jean Guichon prodotta da TINALS per sostenere ReteF.I.K.A. \nSUMMER 2021 HYPNOCATASTROPHE EDITION \n \n____________________ \nPromosso dai collettivi dei festival CRACK fumetti dirompenti – Rome Festival of Drawn and Printed Art di Roma\, NaDir  Napoli Direzione Opposta Festival di Napoli e Ca.Co.FEST di Bari in collaborazione con la neonata Rete F.I.K.A.\n____________________\nNon una vera edizione di UE’ fest: ci sono ancora molte accortezze che desideriamo seguire per la salute di tutti e tutte che non permetteranno appieno lo svolgimento della nostra manifestazione come l’abbiamo nel cuore.  \nTroverete gli stessi sorrisi le stesse braccia aperte e la stessa atmosfera festosa. Rispetteremo distanze\, indosseremo mascherine\, senza perdere il contatto umano che ci rende una comunità e un network. Chi non riuscirà a raggiungerci questa volta\, la prossima sarà da festeggiare il doppio. Ma così all’??????????\, abbiamo deciso di farlo lo stesso ed esserci\, di raccontare alla nostra città che non abbiamo smesso di fare le cose\, e di farle insieme.  \ninfo: www.uefest.net\nmail: uefest@riseup.org
URL:https://commonsnapoli.org/event/ue-fest-presenta-intrasatta/
LOCATION:Scugnizzo Liberato\, Salita Pontecorvo 46\, Naples\, 80135\, IT
CATEGORIES:Scugnizzo Liberato
ATTACH;FMTTYPE=image/jpeg:https://commonsnapoli.org/wp-content/uploads/2022/05/3300_image_210663898_1261837657578807_2631372231599084692_n.jpg
END:VEVENT
BEGIN:VEVENT
DTSTART;TZID=Europe/Rome:20210708T183000
DTEND;TZID=Europe/Rome:20210708T183000
DTSTAMP:20260422T215354
CREATED:20220516T115229Z
LAST-MODIFIED:20220516T115229Z
UID:3302-1625769000-1625769000@commonsnapoli.org
SUMMARY:Note A Margine - Black Noise: Tecnologie della diaspora sonora.
DESCRIPTION:Qual è la consistenza della linea che divide il suono dal rumore? Con quali armi si combatte la battaglia per lo spazio acustico nelle città? \nPer il terzo incontro della rassegna Note A Margine\, a cura di Tamu Edizioni e Tamu Libreria\, abbiamo il piacere di ospitare la presentazione del libro “Black Noise: Tecnologie della diaspora sonora” (Meltemi\, 2021) di Brian D’Aquino\, senior research assistant nell’ERC Project “Sonic Street Technology” alla Goldsmith University di Londra\, operator del sound system Bababoom Hi-Fi e fondatore dell’omonima label. \nL’autore dialogherà con Iain Chambers\, (teorico e ricercatore\, autore tra gli altri di “Ritmi urbani” e “Paesaggi migratori: cultura e identità nell’epoca postcoloniale”) e con NaDir Collective (collettivo di musicistә\, artistә e precariә dello spettacolo\, e animatore della produzione culturale dello Scugnizzo Liberato) a partire dai temi del libro: il legame tra suono\, tecnologia\, razza e potere\, e la relazione tra suono\, rumore e spazio pubblico\, partendo dalla specifica impronta sonora della musica giamaicana sulla musica pop ed elettronica del nuovo millennio. \nA seguire: Bababoom Hi-Fi dj set \nCena a cura dell’associazione Nessun Escluso \n— \nL’evento si svolgerà interamente all’aperto\, nel rispetto della salute di tuttә
URL:https://commonsnapoli.org/event/note-a-margine-black-noise-tecnologie-della-diaspora-sonora/
LOCATION:Scugnizzo Liberato\, Salita Pontecorvo 46\, Naples\, 80135\, IT
CATEGORIES:Scugnizzo Liberato
ATTACH;FMTTYPE=image/jpeg:https://commonsnapoli.org/wp-content/uploads/2022/05/3302_image_210817838_1471211296555591_5204100769464149386_n.jpg
END:VEVENT
END:VCALENDAR