BEGIN:VCALENDAR
VERSION:2.0
PRODID:-//Commons Napoli - ECPv6.15.11//NONSGML v1.0//EN
CALSCALE:GREGORIAN
METHOD:PUBLISH
X-ORIGINAL-URL:https://commonsnapoli.org
X-WR-CALDESC:Eventi per Commons Napoli
REFRESH-INTERVAL;VALUE=DURATION:PT1H
X-Robots-Tag:noindex
X-PUBLISHED-TTL:PT1H
BEGIN:VTIMEZONE
TZID:Europe/Rome
BEGIN:DAYLIGHT
TZOFFSETFROM:+0100
TZOFFSETTO:+0200
TZNAME:CEST
DTSTART:20200329T010000
END:DAYLIGHT
BEGIN:STANDARD
TZOFFSETFROM:+0200
TZOFFSETTO:+0100
TZNAME:CET
DTSTART:20201025T010000
END:STANDARD
BEGIN:DAYLIGHT
TZOFFSETFROM:+0100
TZOFFSETTO:+0200
TZNAME:CEST
DTSTART:20210328T010000
END:DAYLIGHT
BEGIN:STANDARD
TZOFFSETFROM:+0200
TZOFFSETTO:+0100
TZNAME:CET
DTSTART:20211031T010000
END:STANDARD
BEGIN:DAYLIGHT
TZOFFSETFROM:+0100
TZOFFSETTO:+0200
TZNAME:CEST
DTSTART:20220327T010000
END:DAYLIGHT
BEGIN:STANDARD
TZOFFSETFROM:+0200
TZOFFSETTO:+0100
TZNAME:CET
DTSTART:20221030T010000
END:STANDARD
END:VTIMEZONE
BEGIN:VEVENT
DTSTART;TZID=Europe/Rome:20210504T180000
DTEND;TZID=Europe/Rome:20210504T200000
DTSTAMP:20260422T134623
CREATED:20210308T210157Z
LAST-MODIFIED:20210510T120839Z
UID:1817-1620151200-1620158400@commonsnapoli.org
SUMMARY:Redazione CommonsNapoli - Primo incontro aperto
DESCRIPTION:La redazione di CommonsNapoli \n\n\n\ninvita gli/le attivist* dei beni comuni\, gli/le abitanti e le persone interessate a prendere parte alla prima riunione aperta della nostra redazione.  \n\n\n\nIl nostro scopo è la costruzione della piattaforma web della Rete dei Beni Comuni di Napoli: la versione beta è stata presentata il 13 aprile 2021.  \n\n\n\nIl sito sarà ultimato insieme alle comunità di riferimento dei Beni Comuni\, sia attraverso la partecipazione diretta delle persone alle attività redazionali che per mezzo delle indicazioni che da alcune settimane stanno pervenendo alla redazione.
URL:https://commonsnapoli.org/event/redazione-commonsnapoli-primo-incontro-aperto/
LOCATION:Ex Asilo Filangieri\, Vico Giuseppe Maffei\, 4\, Napoli\, 80138\, Italia
CATEGORIES:_LINK_IN_HOME_
ATTACH;FMTTYPE=image/png:https://commonsnapoli.org/wp-content/uploads/2021/03/evento-cover-fb-prima-riunione-redazione-1.png
END:VEVENT
BEGIN:VEVENT
DTSTART;TZID=Europe/Rome:20210427T160000
DTEND;TZID=Europe/Rome:20210427T210000
DTSTAMP:20260422T134623
CREATED:20210308T210157Z
LAST-MODIFIED:20210427T103725Z
UID:1837-1619539200-1619557200@commonsnapoli.org
SUMMARY:Proiezione docufilm " Non ci vede nessuno " di Maurizio Gibertini
DESCRIPTION:“Vogliamo una società che metta al centro la vita e la sua dignità\, che sappia di essere interdipendente con la natura\, che costruisca sul valore d’uso le sue produzioni\, sul mutualismo i suoi scambi\, sull’uguaglianza le sue relazioni\, sulla partecipazione le sue decisioni. Lotteremo tutte e tutti assieme per renderla realtà.” \n\n\n\nL’evento si terrà all’aperto nel cortile di Santa Fede Liberata. \n\n\n\nVisto il momento storico ed il protrarsi dell’ emergenza sanitaria\, facciamo appello alla responsabilità ed alla sensibilità di tutte e tutti\, di mantenere il rispetto del distanziamento fisico e di lasciare lo spazio al termine dell’evento e di non trattenersi oltre le ore 21.
URL:https://commonsnapoli.org/event/proiezione-docufilm-non-ci-vede-nessuno-di-maurizio-gibertini/
LOCATION:Santa Fede Liberata\, Via S. Giovanni Maggiore Pignatelli\, 2\, Napoli\, 80134\, Italia
CATEGORIES:_LINK_IN_HOME_
ATTACH;FMTTYPE=image/jpeg:https://commonsnapoli.org/wp-content/uploads/2021/03/cop_proiezione_santafede_27-04.jpg
END:VEVENT
BEGIN:VEVENT
DTSTART;TZID=Europe/Rome:20210413T160000
DTEND;TZID=Europe/Rome:20210413T173000
DTSTAMP:20260422T134623
CREATED:20210407T194348Z
LAST-MODIFIED:20210408T191603Z
UID:1696-1618329600-1618335000@commonsnapoli.org
SUMMARY:Presentazione alle comunità del sito di Commons Napoli
DESCRIPTION:Martedì\, 13 aprile 2021\, ore 16:00 \n\n\n\nLa redazione di Commons Napoli è lieta di invitare chiunque sia interessat* a prendere parte alla presentazione in videoconferenza del sito web della Rete dei Beni comuni di Napoli. \n\n\n\nStiamo avviando Commons Napoli grazie a Civic e-State: un progetto del network URBACT dell’Unione Europea che promuove la fruizione di beni comuni urbani. In séguito a un lavoro collettivo di alcuni mesi\, la versione beta della piattaforma ospita un’ampia gamma di informazioni e contenuti in riferimento al percorso giuridico napoletano dei Beni Comuni e agli spazi liberati metropolitani riconosciuti a Napoli come “beni comuni” dalla Delibera di Giunta n° 446.VUOI SAPERNE DI PIÙ?  \n\n\n\nLa redazione ha preparato ha preparato una FAQ per introdurre alcuni dei temi che saranno discussi nel corso della presentazione.  \n\n\n\nIl sito di Commons Napoli è terminato o definitivo?No\, non è definitivo. Il sito è nella sua piena funzionalità\, certamente\, ma la versione della piattaforma è una “beta”: si tratta di una versione non definitiva ma testata da espert*\, che viene messa nella disponibilità di utilizzo di altre persone: pubblica\, in questo caso. Lo scopo è quello di individuare errori da correggere\, modifiche da apportare\, miglioramenti da produrre a beneficio della fruizione del sito e della rappresentatività dei suoi contenuti. \n\n\n\nC’è qualcosa della piattaforma che non trovo convincente. Si può cambiare?Sì. Se partecipi alla presentazione ne possiamo discutere\, oppure potrai contattare la redazione di Commons Napoli in un secondo momento. \n\n\n\nNon so nulla di “beni comuni”. Per quale motivo dovrei essere interessat* a questa presentazione?Se non hai mai sentito parlare di beni comuni o non ti è capitato di approfondire la questione\, partecipando alla presentazione potrai iniziare a conoscere un mondo che funziona con logiche alternative a quelle che dominano le nostre vite quotidiane: nei beni comuni\, le decisioni si prendono insieme attraverso la discussione collettiva e le diversità sono un elemento prezioso che arricchisce la comunità\, non un problema. \n\n\n\nHo esperienza dei beni comuni. Li conosco\, li frequento\, li attraverso\, oppure sono già parte di una delle comunità che li fanno vivere attraverso le assemblee di gestione. Posso partecipare?Alla presentazione può partecipare liberamente chiunque. Del resto\, il sito di Commons Napoli racconta anche le tue esperienze e quelle di persone affini a te\, che attraversano beni comuni in altri quartieri della città: insomma\, ti aspettiamo! \n\n\n\nSi fa riferimento ai beni comuni riconosciuti formalmente come tali. Quelli non ancora riconosciuti sono esclusi dal vostro racconto?La risposta è semplice: no. Né ora né mai. La redazione di Commons Napoli e la Rete considerano come beni comuni quelli che lo sono di fatto\, in quanto condividono delle pratiche e degli orientamenti ideali; senza preoccuparsi\, perciò\, che lo siano anche formalmente oppure no. Se hai letto un riferimento soltanto ai beni comuni riconosciuti dalla delibera\, dipende dal fatto che da qualche punto bisognava pur cominciare per costruire il sito e il racconto. \n\n\n\nPosso partecipare alle attività della redazione?Certo che puoi! Partecipa alla presentazione del sito e prendi contatto con la redazione. Ci vorrà del tempo prima che le attività redazionali per gestire la piattaforma si strutturino in maniera più compiuta: si tratta di un processo aperto.
URL:https://commonsnapoli.org/event/presentazione-alle-comunita-del-sito-di-commons-napoli/
CATEGORIES:_LINK_IN_HOME_
ATTACH;FMTTYPE=image/png:https://commonsnapoli.org/wp-content/uploads/2021/04/evento-presentazione-sito-cover-facebook-ver-2.png
ORGANIZER;CN="Commons Napoli":MAILTO:info@commonsnapoli.org
END:VEVENT
BEGIN:VEVENT
DTSTART;TZID=Europe/Rome:20210330T170000
DTEND;TZID=Europe/Rome:20210330T213000
DTSTAMP:20260422T134623
CREATED:20210307T064712Z
LAST-MODIFIED:20210323T131744Z
UID:1144-1617123600-1617139800@commonsnapoli.org
SUMMARY:Autorecupero dei Beni Comuni
DESCRIPTION:La pratica dell’autogestione dei beni comuni si rivela essenziale per riattivare territori e contrastare la diseguaglianza. L’auto-costruzione da parte dei cittadini fornisce un modello efficace ed economico con cui recuperare o costruire ex-novo risorse sul territorio\, ma allo stato attuale nelle politiche pubbliche è una pratica applicata soprattutto nel contesto dell’edilizia residenziale. Nel corso di questo incontro pubblico cercheremo di trovare delle risposte insieme ai protagonisti di una serie di sperimentazioni sul campo in corso sul territorio italiano. L’incontro avviene nell’ambito di uno studio per conto del Comune di Napoli affidato a Lorenzo Tripodi (e condotto con la collaborazione volontaria del team Tesserae) nell’ambito del progetto URBACT Civic e-State. Lo scopo è di tracciare delle linee guida per il processo di autorecupero dei beni comuni attraverso autocostruzione. Dopo aver identificato ed intervistato nella prima fase una serie di esperienze che hanno sperimentato in diversi ambiti processi di autocostruzione sul territorio nazionale abbiamo scelto di aprire un confronto diretto tra i protagonisti di queste pratiche innovative per ricevere un feedback sulle prime proposte per un regolamento cittadino che sta prendendo forma nel contesto napoletano. L’intento è di avviare un processo di condivisione di conoscenza che costituisca come bene comune la stessa capacita diffusa di intervento delle comunità sui beni comuni.
URL:https://commonsnapoli.org/event/autorecupero-dei-beni-comuni/
CATEGORIES:_LINK_IN_HOME_
END:VEVENT
END:VCALENDAR